BEGIN:VCALENDAR
VERSION:2.0
PRODID:-//Rapla tennis - ECPv5.7.1//NONSGML v1.0//EN
CALSCALE:GREGORIAN
METHOD:PUBLISH
X-WR-CALNAME:Rapla tennis
X-ORIGINAL-URL:https://www.raplatennis.ee
X-WR-CALDESC:Events for Rapla tennis
BEGIN:VTIMEZONE
TZID:UTC
BEGIN:STANDARD
TZOFFSETFROM:+0000
TZOFFSETTO:+0000
TZNAME:UTC
DTSTART:20250101T000000
END:STANDARD
END:VTIMEZONE
BEGIN:VEVENT
DTSTART;VALUE=DATE:20250718
DTEND;VALUE=DATE:20250721
DTSTAMP:20260419T175850
CREATED:20250406T160614Z
LAST-MODIFIED:20250406T160614Z
UID:2008-1752796800-1753055999@www.raplatennis.ee
SUMMARY:Raplamaa MV paarismängus
DESCRIPTION:
URL:https://www.raplatennis.ee/kalenderplaan/raplamaa-mv-paarismangus/
ORGANIZER;CN="Rapla%20Tenniseklubi":MAILTO:donatas@tennis.ee
END:VEVENT
END:VCALENDAR