BEGIN:VCALENDAR
VERSION:2.0
PRODID:-//Rapla tennis - ECPv5.7.1//NONSGML v1.0//EN
CALSCALE:GREGORIAN
METHOD:PUBLISH
X-WR-CALNAME:Rapla tennis
X-ORIGINAL-URL:https://www.raplatennis.ee
X-WR-CALDESC:Events for Rapla tennis
BEGIN:VTIMEZONE
TZID:UTC
BEGIN:STANDARD
TZOFFSETFROM:+0000
TZOFFSETTO:+0000
TZNAME:UTC
DTSTART:20250101T000000
END:STANDARD
END:VTIMEZONE
BEGIN:VEVENT
DTSTART;VALUE=DATE:20250814
DTEND;VALUE=DATE:20250818
DTSTAMP:20260419T195920
CREATED:20250406T160842Z
LAST-MODIFIED:20250406T160911Z
UID:2012-1755129600-1755475199@www.raplatennis.ee
SUMMARY:Raplamaa MV üksikmängus
DESCRIPTION:
URL:https://www.raplatennis.ee/kalenderplaan/raplaaa-mv-uksikmangus/
END:VEVENT
END:VCALENDAR