BEGIN:VCALENDAR
VERSION:2.0
PRODID:-//Rapla tennis - ECPv5.7.1//NONSGML v1.0//EN
CALSCALE:GREGORIAN
METHOD:PUBLISH
X-WR-CALNAME:Rapla tennis
X-ORIGINAL-URL:https://www.raplatennis.ee
X-WR-CALDESC:Events for Rapla tennis
BEGIN:VTIMEZONE
TZID:UTC
BEGIN:STANDARD
TZOFFSETFROM:+0000
TZOFFSETTO:+0000
TZNAME:UTC
DTSTART:20210101T000000
END:STANDARD
END:VTIMEZONE
BEGIN:VEVENT
DTSTART;TZID=UTC:20210529T100000
DTEND;TZID=UTC:20210529T170000
DTSTAMP:20260419T194142
CREATED:20210623T115228Z
LAST-MODIFIED:20210623T115228Z
UID:1338-1622282400-1622307600@www.raplatennis.ee
SUMMARY:Rapla Tenniseklubi hooaja avaturniir 2021
DESCRIPTION:Rapla TK 2021 välishooaja avaturniir \n\nIga mäng kestab 4 geimi\nSeisul 40:40 mängitakse otsustava punkt\, otsustaval punktil servib naine naisele ja mees mehele.\nPeetakse alagrupimängud ja play-off.\nMängimiseks kasutatakse 50% palle.\nAutasustatakse parimaid\nKoha peal joogid ja suupisted\nOsavõtumaksu ei ole
URL:https://www.raplatennis.ee/kalenderplaan/rapla-tenniseklubi-hooaja-avaturniir-2021/
ATTACH;FMTTYPE=image/jpeg:https://www.raplatennis.ee/wp-content/uploads/2021/05/SIIM5634.jpg
ORGANIZER;CN="Rapla%20Tenniseklubi":MAILTO:donatas@tennis.ee
END:VEVENT
END:VCALENDAR