BEGIN:VCALENDAR
VERSION:2.0
PRODID:-//Rapla tennis - ECPv5.7.1//NONSGML v1.0//EN
CALSCALE:GREGORIAN
METHOD:PUBLISH
X-WR-CALNAME:Rapla tennis
X-ORIGINAL-URL:https://www.raplatennis.ee
X-WR-CALDESC:Events for Rapla tennis
BEGIN:VTIMEZONE
TZID:UTC
BEGIN:STANDARD
TZOFFSETFROM:+0000
TZOFFSETTO:+0000
TZNAME:UTC
DTSTART:20210101T000000
END:STANDARD
END:VTIMEZONE
BEGIN:VEVENT
DTSTART;TZID=UTC:20210805T180000
DTEND;TZID=UTC:20210805T200000
DTSTAMP:20260419T141912
CREATED:20210726T124331Z
LAST-MODIFIED:20210726T124331Z
UID:1708-1628186400-1628193600@www.raplatennis.ee
SUMMARY:Paarismängu neljapäevak
DESCRIPTION:Neljapäevakule registreerimine toimub siin >> REGISTREERI MÄNGULE
URL:https://www.raplatennis.ee/kalenderplaan/paarismangu-neljapaevak-5/
END:VEVENT
END:VCALENDAR